BEGIN:VCALENDAR
VERSION:2.0
PRODID:-//Fahrschule Safe GmbH - ECPv6.2.4//NONSGML v1.0//EN
CALSCALE:GREGORIAN
METHOD:PUBLISH
X-ORIGINAL-URL:https://fahrschulesafe.de
X-WR-CALDESC:Veranstaltungen für Fahrschule Safe GmbH
REFRESH-INTERVAL;VALUE=DURATION:PT1H
X-Robots-Tag:noindex
X-PUBLISHED-TTL:PT1H
BEGIN:VTIMEZONE
TZID:UTC
BEGIN:STANDARD
TZOFFSETFROM:+0000
TZOFFSETTO:+0000
TZNAME:UTC
DTSTART:20250101T000000
END:STANDARD
END:VTIMEZONE
BEGIN:VEVENT
DTSTART;TZID=UTC:20251106T180000
DTEND;TZID=UTC:20251106T193000
DTSTAMP:20260426T030604
CREATED:20250811T135725Z
LAST-MODIFIED:20250811T135725Z
UID:10000860-1762452000-1762457400@fahrschulesafe.de
SUMMARY:Theorie Thema 1 - Friedrichstr.11
DESCRIPTION:
URL:https://fahrschulesafe.de/tu/theorie-thema-1-friedrichstr-11-28/
LOCATION:Fahrschule Safe\, Friedrichstraße 11\, BERLIN\, 10969\, Deutschland
END:VEVENT
BEGIN:VEVENT
DTSTART;TZID=UTC:20251105T180000
DTEND;TZID=UTC:20251105T193000
DTSTAMP:20260426T030604
CREATED:20250811T135657Z
LAST-MODIFIED:20250811T135657Z
UID:10000859-1762365600-1762371000@fahrschulesafe.de
SUMMARY:Theorie Thema 14 - Friedrichstr.11
DESCRIPTION:
URL:https://fahrschulesafe.de/tu/theorie-thema-14-friedrichstr-11-26/
LOCATION:Fahrschule Safe\, Friedrichstraße 11\, BERLIN\, 10969\, Deutschland
END:VEVENT
BEGIN:VEVENT
DTSTART;TZID=UTC:20251104T180000
DTEND;TZID=UTC:20251104T193000
DTSTAMP:20260426T030604
CREATED:20250811T135635Z
LAST-MODIFIED:20250811T135635Z
UID:10000858-1762279200-1762284600@fahrschulesafe.de
SUMMARY:Theorie Thema 13 - Friedrichstr.11
DESCRIPTION:
URL:https://fahrschulesafe.de/tu/theorie-thema-13-friedrichstr-11-28/
LOCATION:Fahrschule Safe\, Friedrichstraße 11\, BERLIN\, 10969\, Deutschland
END:VEVENT
BEGIN:VEVENT
DTSTART;TZID=UTC:20251103T180000
DTEND;TZID=UTC:20251103T193000
DTSTAMP:20260426T030604
CREATED:20250811T135610Z
LAST-MODIFIED:20250811T135610Z
UID:10000857-1762192800-1762198200@fahrschulesafe.de
SUMMARY:Theorie Thema 12 - Friedrichstr.11
DESCRIPTION:
URL:https://fahrschulesafe.de/tu/theorie-thema-12-friedrichstr-11-28/
LOCATION:Fahrschule Safe\, Friedrichstraße 11\, BERLIN\, 10969\, Deutschland
END:VEVENT
BEGIN:VEVENT
DTSTART;TZID=UTC:20251030T180000
DTEND;TZID=UTC:20251030T193000
DTSTAMP:20260426T030604
CREATED:20250811T135105Z
LAST-MODIFIED:20250811T135105Z
UID:10000856-1761847200-1761852600@fahrschulesafe.de
SUMMARY:Theorie Thema 11 - Friedrichstr.11
DESCRIPTION:
URL:https://fahrschulesafe.de/tu/theorie-thema-11-friedrichstr-11-27/
LOCATION:Fahrschule Safe\, Friedrichstraße 11\, BERLIN\, 10969\, Deutschland
END:VEVENT
BEGIN:VEVENT
DTSTART;TZID=UTC:20251029T180000
DTEND;TZID=UTC:20251029T193000
DTSTAMP:20260426T030604
CREATED:20250811T135043Z
LAST-MODIFIED:20250811T135043Z
UID:10000855-1761760800-1761766200@fahrschulesafe.de
SUMMARY:Theorie Thema 10 - Friedrichstr.11
DESCRIPTION:
URL:https://fahrschulesafe.de/tu/theorie-thema-10-friedrichstr-11-29/
LOCATION:Fahrschule Safe\, Friedrichstraße 11\, BERLIN\, 10969\, Deutschland
END:VEVENT
BEGIN:VEVENT
DTSTART;TZID=UTC:20251028T180000
DTEND;TZID=UTC:20251028T193000
DTSTAMP:20260426T030604
CREATED:20250811T135022Z
LAST-MODIFIED:20250811T135022Z
UID:10000854-1761674400-1761679800@fahrschulesafe.de
SUMMARY:Theorie Thema 9 - Friedrichstr.11
DESCRIPTION:
URL:https://fahrschulesafe.de/tu/theorie-thema-9-friedrichstr-11-28/
LOCATION:Fahrschule Safe\, Friedrichstraße 11\, BERLIN\, 10969\, Deutschland
END:VEVENT
BEGIN:VEVENT
DTSTART;TZID=UTC:20251027T180000
DTEND;TZID=UTC:20251027T193000
DTSTAMP:20260426T030604
CREATED:20250811T134956Z
LAST-MODIFIED:20250811T134956Z
UID:10000853-1761588000-1761593400@fahrschulesafe.de
SUMMARY:Theorie Thema 8 - Friedrichstr.11
DESCRIPTION:
URL:https://fahrschulesafe.de/tu/theorie-thema-8-friedrichstr-11-25/
LOCATION:Fahrschule Safe\, Friedrichstraße 11\, BERLIN\, 10969\, Deutschland
END:VEVENT
BEGIN:VEVENT
DTSTART;TZID=UTC:20251023T180000
DTEND;TZID=UTC:20251023T193000
DTSTAMP:20260426T030604
CREATED:20250811T134926Z
LAST-MODIFIED:20250811T134926Z
UID:10000852-1761242400-1761247800@fahrschulesafe.de
SUMMARY:Theorie Thema 7 - Friedrichstr.11
DESCRIPTION:
URL:https://fahrschulesafe.de/tu/theorie-thema-7-friedrichstr-11-26/
LOCATION:Fahrschule Safe\, Friedrichstraße 11\, BERLIN\, 10969\, Deutschland
END:VEVENT
BEGIN:VEVENT
DTSTART;TZID=UTC:20251022T180000
DTEND;TZID=UTC:20251022T193000
DTSTAMP:20260426T030604
CREATED:20250811T134905Z
LAST-MODIFIED:20250811T134905Z
UID:10000851-1761156000-1761161400@fahrschulesafe.de
SUMMARY:Theorie Thema 6 - Friedrichstr.11
DESCRIPTION:
URL:https://fahrschulesafe.de/tu/theorie-thema-6-friedrichstr-11-26/
LOCATION:Fahrschule Safe\, Friedrichstraße 11\, BERLIN\, 10969\, Deutschland
END:VEVENT
BEGIN:VEVENT
DTSTART;TZID=UTC:20251021T180000
DTEND;TZID=UTC:20251021T193000
DTSTAMP:20260426T030604
CREATED:20250811T134846Z
LAST-MODIFIED:20250811T134846Z
UID:10000850-1761069600-1761075000@fahrschulesafe.de
SUMMARY:Theorie Thema 5 - Friedrichstr.11
DESCRIPTION:
URL:https://fahrschulesafe.de/tu/theorie-thema-5-friedrichstr-11-27/
LOCATION:Fahrschule Safe\, Friedrichstraße 11\, BERLIN\, 10969\, Deutschland
END:VEVENT
BEGIN:VEVENT
DTSTART;TZID=UTC:20251020T180000
DTEND;TZID=UTC:20251020T193000
DTSTAMP:20260426T030604
CREATED:20250811T134650Z
LAST-MODIFIED:20250811T134650Z
UID:10000849-1760983200-1760988600@fahrschulesafe.de
SUMMARY:Theorie Thema 4 - Friedrichstr.11
DESCRIPTION:
URL:https://fahrschulesafe.de/tu/theorie-thema-4-friedrichstr-11-26/
LOCATION:Fahrschule Safe\, Friedrichstraße 11\, BERLIN\, 10969\, Deutschland
END:VEVENT
BEGIN:VEVENT
DTSTART;TZID=UTC:20251016T180000
DTEND;TZID=UTC:20251016T193000
DTSTAMP:20260426T030604
CREATED:20250811T134617Z
LAST-MODIFIED:20250811T134617Z
UID:10000848-1760637600-1760643000@fahrschulesafe.de
SUMMARY:Theorie Thema 3 - Friedrichstr.11
DESCRIPTION:
URL:https://fahrschulesafe.de/tu/theorie-thema-3-friedrichstr-11-26/
LOCATION:Fahrschule Safe\, Friedrichstraße 11\, BERLIN\, 10969\, Deutschland
END:VEVENT
BEGIN:VEVENT
DTSTART;TZID=UTC:20251015T180000
DTEND;TZID=UTC:20251015T193000
DTSTAMP:20260426T030604
CREATED:20250811T134555Z
LAST-MODIFIED:20250811T134555Z
UID:10000847-1760551200-1760556600@fahrschulesafe.de
SUMMARY:Theorie Thema 2 - Friedrichstr.11
DESCRIPTION:
URL:https://fahrschulesafe.de/tu/theorie-thema-2-friedrichstr-11-26/
LOCATION:Fahrschule Safe\, Friedrichstraße 11\, BERLIN\, 10969\, Deutschland
END:VEVENT
BEGIN:VEVENT
DTSTART;TZID=UTC:20251014T180000
DTEND;TZID=UTC:20251014T193000
DTSTAMP:20260426T030604
CREATED:20250811T134529Z
LAST-MODIFIED:20250811T134529Z
UID:10000846-1760464800-1760470200@fahrschulesafe.de
SUMMARY:Theorie Thema 1 - Friedrichstr.11
DESCRIPTION:
URL:https://fahrschulesafe.de/tu/theorie-thema-1-friedrichstr-11-27/
LOCATION:Fahrschule Safe\, Friedrichstraße 11\, BERLIN\, 10969\, Deutschland
END:VEVENT
BEGIN:VEVENT
DTSTART;TZID=UTC:20251013T180000
DTEND;TZID=UTC:20251013T193000
DTSTAMP:20260426T030604
CREATED:20250811T134508Z
LAST-MODIFIED:20250811T134508Z
UID:10000845-1760378400-1760383800@fahrschulesafe.de
SUMMARY:Theorie Thema 14 - Friedrichstr.11
DESCRIPTION:
URL:https://fahrschulesafe.de/tu/theorie-thema-14-friedrichstr-11-25/
LOCATION:Fahrschule Safe\, Friedrichstraße 11\, BERLIN\, 10969\, Deutschland
END:VEVENT
BEGIN:VEVENT
DTSTART;TZID=UTC:20251009T180000
DTEND;TZID=UTC:20251009T193000
DTSTAMP:20260426T030604
CREATED:20250811T134442Z
LAST-MODIFIED:20250811T134442Z
UID:10000844-1760032800-1760038200@fahrschulesafe.de
SUMMARY:Theorie Thema 13 - Friedrichstr.11
DESCRIPTION:
URL:https://fahrschulesafe.de/tu/theorie-thema-13-friedrichstr-11-27/
LOCATION:Fahrschule Safe\, Friedrichstraße 11\, BERLIN\, 10969\, Deutschland
END:VEVENT
BEGIN:VEVENT
DTSTART;TZID=UTC:20251008T180000
DTEND;TZID=UTC:20251008T193000
DTSTAMP:20260426T030604
CREATED:20250811T134418Z
LAST-MODIFIED:20250811T134418Z
UID:10000843-1759946400-1759951800@fahrschulesafe.de
SUMMARY:Theorie Thema 12 - Friedrichstr.11
DESCRIPTION:
URL:https://fahrschulesafe.de/tu/theorie-thema-12-friedrichstr-11-27/
LOCATION:Fahrschule Safe\, Friedrichstraße 11\, BERLIN\, 10969\, Deutschland
END:VEVENT
BEGIN:VEVENT
DTSTART;TZID=UTC:20251007T180000
DTEND;TZID=UTC:20251007T193000
DTSTAMP:20260426T030604
CREATED:20250811T134356Z
LAST-MODIFIED:20250811T134356Z
UID:10000842-1759860000-1759865400@fahrschulesafe.de
SUMMARY:Theorie Thema 11 - Friedrichstr.11
DESCRIPTION:
URL:https://fahrschulesafe.de/tu/theorie-thema-11-friedrichstr-11-26/
LOCATION:Fahrschule Safe\, Friedrichstraße 11\, BERLIN\, 10969\, Deutschland
END:VEVENT
BEGIN:VEVENT
DTSTART;TZID=UTC:20251006T180000
DTEND;TZID=UTC:20251006T193000
DTSTAMP:20260426T030604
CREATED:20250811T134329Z
LAST-MODIFIED:20250811T134329Z
UID:10000841-1759773600-1759779000@fahrschulesafe.de
SUMMARY:Theorie Thema 10 - Friedrichstr.11
DESCRIPTION:
URL:https://fahrschulesafe.de/tu/theorie-thema-10-friedrichstr-11-28/
LOCATION:Fahrschule Safe\, Friedrichstraße 11\, BERLIN\, 10969\, Deutschland
END:VEVENT
BEGIN:VEVENT
DTSTART;TZID=UTC:20251002T180000
DTEND;TZID=UTC:20251002T193000
DTSTAMP:20260426T030604
CREATED:20250811T134308Z
LAST-MODIFIED:20250811T134308Z
UID:10000840-1759428000-1759433400@fahrschulesafe.de
SUMMARY:Theorie Thema 9 - Friedrichstr.11
DESCRIPTION:
URL:https://fahrschulesafe.de/tu/theorie-thema-9-friedrichstr-11-27/
LOCATION:Fahrschule Safe\, Friedrichstraße 11\, BERLIN\, 10969\, Deutschland
END:VEVENT
BEGIN:VEVENT
DTSTART;TZID=UTC:20251001T180000
DTEND;TZID=UTC:20251001T193000
DTSTAMP:20260426T030604
CREATED:20250811T134245Z
LAST-MODIFIED:20250811T134245Z
UID:10000839-1759341600-1759347000@fahrschulesafe.de
SUMMARY:Theorie Thema 8 - Friedrichstr.11
DESCRIPTION:
URL:https://fahrschulesafe.de/tu/theorie-thema-8-friedrichstr-11-24/
LOCATION:Fahrschule Safe\, Friedrichstraße 11\, BERLIN\, 10969\, Deutschland
END:VEVENT
BEGIN:VEVENT
DTSTART;TZID=UTC:20250930T180000
DTEND;TZID=UTC:20250930T193000
DTSTAMP:20260426T030604
CREATED:20250811T134012Z
LAST-MODIFIED:20250811T134012Z
UID:10000838-1759255200-1759260600@fahrschulesafe.de
SUMMARY:Theorie Thema 7 - Friedrichstr.11
DESCRIPTION:
URL:https://fahrschulesafe.de/tu/theorie-thema-7-friedrichstr-11-25/
LOCATION:Fahrschule Safe\, Friedrichstraße 11\, BERLIN\, 10969\, Deutschland
END:VEVENT
BEGIN:VEVENT
DTSTART;TZID=UTC:20250929T180000
DTEND;TZID=UTC:20250929T193000
DTSTAMP:20260426T030604
CREATED:20250811T133946Z
LAST-MODIFIED:20250811T133946Z
UID:10000837-1759168800-1759174200@fahrschulesafe.de
SUMMARY:Theorie Thema 6 - Friedrichstr.11
DESCRIPTION:
URL:https://fahrschulesafe.de/tu/theorie-thema-6-friedrichstr-11-25/
LOCATION:Fahrschule Safe\, Friedrichstraße 11\, BERLIN\, 10969\, Deutschland
END:VEVENT
BEGIN:VEVENT
DTSTART;TZID=UTC:20250925T180000
DTEND;TZID=UTC:20250925T193000
DTSTAMP:20260426T030604
CREATED:20250811T133917Z
LAST-MODIFIED:20250811T133917Z
UID:10000836-1758823200-1758828600@fahrschulesafe.de
SUMMARY:Theorie Thema 5 - Friedrichstr.11
DESCRIPTION:
URL:https://fahrschulesafe.de/tu/theorie-thema-5-friedrichstr-11-26/
LOCATION:Fahrschule Safe\, Friedrichstraße 11\, BERLIN\, 10969\, Deutschland
END:VEVENT
BEGIN:VEVENT
DTSTART;TZID=UTC:20250924T180000
DTEND;TZID=UTC:20250924T193000
DTSTAMP:20260426T030604
CREATED:20250811T133856Z
LAST-MODIFIED:20250811T133856Z
UID:10000835-1758736800-1758742200@fahrschulesafe.de
SUMMARY:Theorie Thema 4 - Friedrichstr.11
DESCRIPTION:
URL:https://fahrschulesafe.de/tu/theorie-thema-4-friedrichstr-11-25/
LOCATION:Fahrschule Safe\, Friedrichstraße 11\, BERLIN\, 10969\, Deutschland
END:VEVENT
BEGIN:VEVENT
DTSTART;TZID=UTC:20250923T180000
DTEND;TZID=UTC:20250923T193000
DTSTAMP:20260426T030604
CREATED:20250811T133835Z
LAST-MODIFIED:20250811T133835Z
UID:10000834-1758650400-1758655800@fahrschulesafe.de
SUMMARY:Theorie Thema 3 - Friedrichstr.11
DESCRIPTION:
URL:https://fahrschulesafe.de/tu/theorie-thema-3-friedrichstr-11-25/
LOCATION:Fahrschule Safe\, Friedrichstraße 11\, BERLIN\, 10969\, Deutschland
END:VEVENT
BEGIN:VEVENT
DTSTART;TZID=UTC:20250922T180000
DTEND;TZID=UTC:20250922T193000
DTSTAMP:20260426T030604
CREATED:20250811T133813Z
LAST-MODIFIED:20250811T133813Z
UID:10000833-1758564000-1758569400@fahrschulesafe.de
SUMMARY:Theorie Thema 2 - Friedrichstr.11
DESCRIPTION:
URL:https://fahrschulesafe.de/tu/theorie-thema-2-friedrichstr-11-25/
LOCATION:Fahrschule Safe\, Friedrichstraße 11\, BERLIN\, 10969\, Deutschland
END:VEVENT
BEGIN:VEVENT
DTSTART;TZID=UTC:20250918T180000
DTEND;TZID=UTC:20250918T193000
DTSTAMP:20260426T030604
CREATED:20250811T133747Z
LAST-MODIFIED:20250811T133747Z
UID:10000832-1758218400-1758223800@fahrschulesafe.de
SUMMARY:Theorie Thema 1 - Friedrichstr.11
DESCRIPTION:
URL:https://fahrschulesafe.de/tu/theorie-thema-1-friedrichstr-11-26/
LOCATION:Fahrschule Safe\, Friedrichstraße 11\, BERLIN\, 10969\, Deutschland
END:VEVENT
BEGIN:VEVENT
DTSTART;TZID=UTC:20250917T180000
DTEND;TZID=UTC:20250917T193000
DTSTAMP:20260426T030604
CREATED:20250811T133723Z
LAST-MODIFIED:20250811T133723Z
UID:10000831-1758132000-1758137400@fahrschulesafe.de
SUMMARY:Theorie Thema 14 - Friedrichstr.11
DESCRIPTION:
URL:https://fahrschulesafe.de/tu/theorie-thema-14-friedrichstr-11-24/
LOCATION:Fahrschule Safe\, Friedrichstraße 11\, BERLIN\, 10969\, Deutschland
END:VEVENT
END:VCALENDAR