BEGIN:VCALENDAR
VERSION:2.0
PRODID:-//Fahrschule Safe GmbH - ECPv6.2.4//NONSGML v1.0//EN
CALSCALE:GREGORIAN
METHOD:PUBLISH
X-WR-CALNAME:Fahrschule Safe GmbH
X-ORIGINAL-URL:https://fahrschulesafe.de
X-WR-CALDESC:Veranstaltungen für Fahrschule Safe GmbH
REFRESH-INTERVAL;VALUE=DURATION:PT1H
X-Robots-Tag:noindex
X-PUBLISHED-TTL:PT1H
BEGIN:VTIMEZONE
TZID:UTC
BEGIN:STANDARD
TZOFFSETFROM:+0000
TZOFFSETTO:+0000
TZNAME:UTC
DTSTART:20250101T000000
END:STANDARD
END:VTIMEZONE
BEGIN:VEVENT
DTSTART;TZID=UTC:20251127T180000
DTEND;TZID=UTC:20251127T193000
DTSTAMP:20260425T234532
CREATED:20250808T131627Z
LAST-MODIFIED:20250808T131627Z
UID:10000820-1764266400-1764271800@fahrschulesafe.de
SUMMARY:Theorie Thema 2 - Weitlingstr. 29
DESCRIPTION:
URL:https://fahrschulesafe.de/tu/theorie-thema-2-weitlingstr-29-27/
LOCATION:Fahrschule Safe II\, Weitlingstr. 29\, Berlin\, 10317 Berlin\, Deutschland
END:VEVENT
BEGIN:VEVENT
DTSTART;TZID=UTC:20251126T180000
DTEND;TZID=UTC:20251126T193000
DTSTAMP:20260425T234532
CREATED:20250808T131559Z
LAST-MODIFIED:20250808T131559Z
UID:10000819-1764180000-1764185400@fahrschulesafe.de
SUMMARY:Theorie Thema 1 - Weitlingstr. 29
DESCRIPTION:
URL:https://fahrschulesafe.de/tu/theorie-thema-1-weitlingstr-29-28/
LOCATION:Fahrschule Safe II\, Weitlingstr. 29\, Berlin\, 10317 Berlin\, Deutschland
END:VEVENT
BEGIN:VEVENT
DTSTART;TZID=UTC:20251125T180000
DTEND;TZID=UTC:20251125T193000
DTSTAMP:20260425T234532
CREATED:20250808T131536Z
LAST-MODIFIED:20250808T131536Z
UID:10000818-1764093600-1764099000@fahrschulesafe.de
SUMMARY:Theorie Thema 14 - Weitlingstr. 29
DESCRIPTION:
URL:https://fahrschulesafe.de/tu/theorie-thema-14-weitlingstr-29-27/
LOCATION:Fahrschule Safe II\, Weitlingstr. 29\, Berlin\, 10317 Berlin\, Deutschland
END:VEVENT
BEGIN:VEVENT
DTSTART;TZID=UTC:20251124T180000
DTEND;TZID=UTC:20251124T193000
DTSTAMP:20260425T234532
CREATED:20250808T131511Z
LAST-MODIFIED:20250808T131511Z
UID:10000817-1764007200-1764012600@fahrschulesafe.de
SUMMARY:Theorie Thema 13 - Weitlingstr. 29
DESCRIPTION:
URL:https://fahrschulesafe.de/tu/theorie-thema-13-weitlingstr-29-28/
LOCATION:Fahrschule Safe II\, Weitlingstr. 29\, Berlin\, 10317 Berlin\, Deutschland
END:VEVENT
BEGIN:VEVENT
DTSTART;TZID=UTC:20251120T180000
DTEND;TZID=UTC:20251120T193000
DTSTAMP:20260425T234532
CREATED:20250808T131419Z
LAST-MODIFIED:20250808T131419Z
UID:10000816-1763661600-1763667000@fahrschulesafe.de
SUMMARY:Theorie Thema 12 - Weitlingstr. 29
DESCRIPTION:
URL:https://fahrschulesafe.de/tu/theorie-thema-12-weitlingstr-29-26/
LOCATION:Fahrschule Safe II\, Weitlingstr. 29\, Berlin\, 10317 Berlin\, Deutschland
END:VEVENT
BEGIN:VEVENT
DTSTART;TZID=UTC:20251119T180000
DTEND;TZID=UTC:20251119T193000
DTSTAMP:20260425T234532
CREATED:20250808T131351Z
LAST-MODIFIED:20250808T131351Z
UID:10000815-1763575200-1763580600@fahrschulesafe.de
SUMMARY:Theorie Thema 11 - Weitlingstr. 29
DESCRIPTION:
URL:https://fahrschulesafe.de/tu/theorie-thema-11-weitlingstr-29-28/
LOCATION:Fahrschule Safe II\, Weitlingstr. 29\, Berlin\, 10317 Berlin\, Deutschland
END:VEVENT
BEGIN:VEVENT
DTSTART;TZID=UTC:20251118T180000
DTEND;TZID=UTC:20251118T193000
DTSTAMP:20260425T234532
CREATED:20250808T131328Z
LAST-MODIFIED:20250808T131328Z
UID:10000814-1763488800-1763494200@fahrschulesafe.de
SUMMARY:Theorie Thema 10 - Weitlingstr. 29
DESCRIPTION:
URL:https://fahrschulesafe.de/tu/theorie-thema-10-weitlingstr-29-27/
LOCATION:Fahrschule Safe II\, Weitlingstr. 29\, Berlin\, 10317 Berlin\, Deutschland
END:VEVENT
BEGIN:VEVENT
DTSTART;TZID=UTC:20251117T180000
DTEND;TZID=UTC:20251117T193000
DTSTAMP:20260425T234532
CREATED:20250808T131307Z
LAST-MODIFIED:20250808T131307Z
UID:10000813-1763402400-1763407800@fahrschulesafe.de
SUMMARY:Theorie Thema 9 - Weitlingstr. 29
DESCRIPTION:
URL:https://fahrschulesafe.de/tu/theorie-thema-9-weitlingstr-29-31/
LOCATION:Fahrschule Safe II\, Weitlingstr. 29\, Berlin\, 10317 Berlin\, Deutschland
END:VEVENT
BEGIN:VEVENT
DTSTART;TZID=UTC:20251113T180000
DTEND;TZID=UTC:20251113T193000
DTSTAMP:20260425T234532
CREATED:20250808T131245Z
LAST-MODIFIED:20250808T131245Z
UID:10000812-1763056800-1763062200@fahrschulesafe.de
SUMMARY:Theorie Thema 8 - Weitlingstr. 29
DESCRIPTION:
URL:https://fahrschulesafe.de/tu/theorie-thema-8-weitlingstr-29-28/
LOCATION:Fahrschule Safe II\, Weitlingstr. 29\, Berlin\, 10317 Berlin\, Deutschland
END:VEVENT
BEGIN:VEVENT
DTSTART;TZID=UTC:20251112T180000
DTEND;TZID=UTC:20251112T193000
DTSTAMP:20260425T234532
CREATED:20250808T131220Z
LAST-MODIFIED:20250808T131220Z
UID:10000811-1762970400-1762975800@fahrschulesafe.de
SUMMARY:Theorie Thema 7 - Weitlingstr. 29
DESCRIPTION:
URL:https://fahrschulesafe.de/tu/theorie-thema-7-weitlingstr-29-29/
LOCATION:Fahrschule Safe II\, Weitlingstr. 29\, Berlin\, 10317 Berlin\, Deutschland
END:VEVENT
BEGIN:VEVENT
DTSTART;TZID=UTC:20251111T180000
DTEND;TZID=UTC:20251111T193000
DTSTAMP:20260425T234532
CREATED:20250808T131152Z
LAST-MODIFIED:20250808T131152Z
UID:10000810-1762884000-1762889400@fahrschulesafe.de
SUMMARY:Theorie Thema 6 - Weitlingstr. 29
DESCRIPTION:
URL:https://fahrschulesafe.de/tu/theorie-thema-6-weitlingstr-29-29/
LOCATION:Fahrschule Safe II\, Weitlingstr. 29\, Berlin\, 10317 Berlin\, Deutschland
END:VEVENT
BEGIN:VEVENT
DTSTART;TZID=UTC:20251110T180000
DTEND;TZID=UTC:20251110T193000
DTSTAMP:20260425T234532
CREATED:20250808T131124Z
LAST-MODIFIED:20250808T131124Z
UID:10000809-1762797600-1762803000@fahrschulesafe.de
SUMMARY:Theorie Thema 5 - Weitlingstr. 29
DESCRIPTION:
URL:https://fahrschulesafe.de/tu/theorie-thema-5-weitlingstr-29-26/
LOCATION:Fahrschule Safe II\, Weitlingstr. 29\, Berlin\, 10317 Berlin\, Deutschland
END:VEVENT
BEGIN:VEVENT
DTSTART;TZID=UTC:20251106T180000
DTEND;TZID=UTC:20251106T193000
DTSTAMP:20260425T234532
CREATED:20250808T131051Z
LAST-MODIFIED:20250808T131051Z
UID:10000808-1762452000-1762457400@fahrschulesafe.de
SUMMARY:Theorie Thema 4 - Weitlingstr. 29
DESCRIPTION:
URL:https://fahrschulesafe.de/tu/theorie-thema-4-weitlingstr-29-26/
LOCATION:Fahrschule Safe II\, Weitlingstr. 29\, Berlin\, 10317 Berlin\, Deutschland
END:VEVENT
BEGIN:VEVENT
DTSTART;TZID=UTC:20251105T180000
DTEND;TZID=UTC:20251105T193000
DTSTAMP:20260425T234532
CREATED:20250808T131020Z
LAST-MODIFIED:20250808T131020Z
UID:10000807-1762365600-1762371000@fahrschulesafe.de
SUMMARY:Theorie Thema 3 - Weitlingstr. 29
DESCRIPTION:
URL:https://fahrschulesafe.de/tu/theorie-thema-3-weitlingstr-29-26/
LOCATION:Fahrschule Safe II\, Weitlingstr. 29\, Berlin\, 10317 Berlin\, Deutschland
END:VEVENT
BEGIN:VEVENT
DTSTART;TZID=UTC:20251104T180000
DTEND;TZID=UTC:20251104T193000
DTSTAMP:20260425T234532
CREATED:20250808T130957Z
LAST-MODIFIED:20250808T130957Z
UID:10000806-1762279200-1762284600@fahrschulesafe.de
SUMMARY:Theorie Thema 2 - Weitlingstr. 29
DESCRIPTION:
URL:https://fahrschulesafe.de/tu/theorie-thema-2-weitlingstr-29-26/
LOCATION:Fahrschule Safe II\, Weitlingstr. 29\, Berlin\, 10317 Berlin\, Deutschland
END:VEVENT
BEGIN:VEVENT
DTSTART;TZID=UTC:20251103T180000
DTEND;TZID=UTC:20251103T193000
DTSTAMP:20260425T234532
CREATED:20250808T130922Z
LAST-MODIFIED:20250808T130922Z
UID:10000805-1762192800-1762198200@fahrschulesafe.de
SUMMARY:Theorie Thema 1 - Weitlingstr. 29
DESCRIPTION:
URL:https://fahrschulesafe.de/tu/theorie-thema-1-weitlingstr-29-27/
LOCATION:Fahrschule Safe II\, Weitlingstr. 29\, Berlin\, 10317 Berlin\, Deutschland
END:VEVENT
BEGIN:VEVENT
DTSTART;TZID=UTC:20251030T180000
DTEND;TZID=UTC:20251030T193000
DTSTAMP:20260425T234532
CREATED:20250808T130717Z
LAST-MODIFIED:20250808T130717Z
UID:10000804-1761847200-1761852600@fahrschulesafe.de
SUMMARY:Theorie Thema 14 - Weitlingstr. 29
DESCRIPTION:
URL:https://fahrschulesafe.de/tu/theorie-thema-14-weitlingstr-29-26/
LOCATION:Fahrschule Safe II\, Weitlingstr. 29\, Berlin\, 10317 Berlin\, Deutschland
END:VEVENT
BEGIN:VEVENT
DTSTART;TZID=UTC:20251029T180000
DTEND;TZID=UTC:20251029T193000
DTSTAMP:20260425T234532
CREATED:20250808T130655Z
LAST-MODIFIED:20250808T130655Z
UID:10000803-1761760800-1761766200@fahrschulesafe.de
SUMMARY:Theorie Thema 13 - Weitlingstr. 29
DESCRIPTION:
URL:https://fahrschulesafe.de/tu/theorie-thema-13-weitlingstr-29-27/
LOCATION:Fahrschule Safe II\, Weitlingstr. 29\, Berlin\, 10317 Berlin\, Deutschland
END:VEVENT
BEGIN:VEVENT
DTSTART;TZID=UTC:20251028T180000
DTEND;TZID=UTC:20251028T193000
DTSTAMP:20260425T234532
CREATED:20250808T130632Z
LAST-MODIFIED:20250808T130632Z
UID:10000802-1761674400-1761679800@fahrschulesafe.de
SUMMARY:Theorie Thema 12 - Weitlingstr. 29
DESCRIPTION:
URL:https://fahrschulesafe.de/tu/theorie-thema-12-weitlingstr-29-25/
LOCATION:Fahrschule Safe II\, Weitlingstr. 29\, Berlin\, 10317 Berlin\, Deutschland
END:VEVENT
BEGIN:VEVENT
DTSTART;TZID=UTC:20251027T180000
DTEND;TZID=UTC:20251027T193000
DTSTAMP:20260425T234532
CREATED:20250808T130608Z
LAST-MODIFIED:20250808T130608Z
UID:10000801-1761588000-1761593400@fahrschulesafe.de
SUMMARY:Theorie Thema 11 - Weitlingstr. 29
DESCRIPTION:
URL:https://fahrschulesafe.de/tu/theorie-thema-11-weitlingstr-29-27/
LOCATION:Fahrschule Safe II\, Weitlingstr. 29\, Berlin\, 10317 Berlin\, Deutschland
END:VEVENT
BEGIN:VEVENT
DTSTART;TZID=UTC:20251023T180000
DTEND;TZID=UTC:20251023T193000
DTSTAMP:20260425T234532
CREATED:20250808T130544Z
LAST-MODIFIED:20250808T130544Z
UID:10000800-1761242400-1761247800@fahrschulesafe.de
SUMMARY:Theorie Thema 10 - Weitlingstr. 29
DESCRIPTION:
URL:https://fahrschulesafe.de/tu/theorie-thema-10-weitlingstr-29-26/
LOCATION:Fahrschule Safe II\, Weitlingstr. 29\, Berlin\, 10317 Berlin\, Deutschland
END:VEVENT
BEGIN:VEVENT
DTSTART;TZID=UTC:20251022T180000
DTEND;TZID=UTC:20251022T193000
DTSTAMP:20260425T234532
CREATED:20250808T130522Z
LAST-MODIFIED:20250808T130522Z
UID:10000799-1761156000-1761161400@fahrschulesafe.de
SUMMARY:Theorie Thema 9 - Weitlingstr. 29
DESCRIPTION:
URL:https://fahrschulesafe.de/tu/theorie-thema-9-weitlingstr-29-30/
LOCATION:Fahrschule Safe II\, Weitlingstr. 29\, Berlin\, 10317 Berlin\, Deutschland
END:VEVENT
BEGIN:VEVENT
DTSTART;TZID=UTC:20251021T180000
DTEND;TZID=UTC:20251021T193000
DTSTAMP:20260425T234532
CREATED:20250808T130452Z
LAST-MODIFIED:20250808T130452Z
UID:10000798-1761069600-1761075000@fahrschulesafe.de
SUMMARY:Theorie Thema 8 - Weitlingstr. 29
DESCRIPTION:
URL:https://fahrschulesafe.de/tu/theorie-thema-8-weitlingstr-29-27/
LOCATION:Fahrschule Safe II\, Weitlingstr. 29\, Berlin\, 10317 Berlin\, Deutschland
END:VEVENT
BEGIN:VEVENT
DTSTART;TZID=UTC:20251020T180000
DTEND;TZID=UTC:20251020T193000
DTSTAMP:20260425T234532
CREATED:20250808T130418Z
LAST-MODIFIED:20250808T130418Z
UID:10000797-1760983200-1760988600@fahrschulesafe.de
SUMMARY:Theorie Thema 7 - Weitlingstr. 29
DESCRIPTION:
URL:https://fahrschulesafe.de/tu/theorie-thema-7-weitlingstr-29-28/
LOCATION:Fahrschule Safe II\, Weitlingstr. 29\, Berlin\, 10317 Berlin\, Deutschland
END:VEVENT
BEGIN:VEVENT
DTSTART;TZID=UTC:20251016T180000
DTEND;TZID=UTC:20251016T193000
DTSTAMP:20260425T234532
CREATED:20250808T130353Z
LAST-MODIFIED:20250808T130353Z
UID:10000796-1760637600-1760643000@fahrschulesafe.de
SUMMARY:Theorie Thema 6 - Weitlingstr. 29
DESCRIPTION:
URL:https://fahrschulesafe.de/tu/theorie-thema-6-weitlingstr-29-28/
LOCATION:Fahrschule Safe II\, Weitlingstr. 29\, Berlin\, 10317 Berlin\, Deutschland
END:VEVENT
BEGIN:VEVENT
DTSTART;TZID=UTC:20251015T180000
DTEND;TZID=UTC:20251015T193000
DTSTAMP:20260425T234532
CREATED:20250808T130329Z
LAST-MODIFIED:20250808T130329Z
UID:10000795-1760551200-1760556600@fahrschulesafe.de
SUMMARY:Theorie Thema 5 - Weitlingstr. 29
DESCRIPTION:
URL:https://fahrschulesafe.de/tu/theorie-thema-5-weitlingstr-29-25/
LOCATION:Fahrschule Safe II\, Weitlingstr. 29\, Berlin\, 10317 Berlin\, Deutschland
END:VEVENT
BEGIN:VEVENT
DTSTART;TZID=UTC:20251014T180000
DTEND;TZID=UTC:20251014T193000
DTSTAMP:20260425T234532
CREATED:20250808T130302Z
LAST-MODIFIED:20250808T130302Z
UID:10000794-1760464800-1760470200@fahrschulesafe.de
SUMMARY:Theorie Thema 4 - Weitlingstr. 29
DESCRIPTION:
URL:https://fahrschulesafe.de/tu/theorie-thema-4-weitlingstr-29-25/
LOCATION:Fahrschule Safe II\, Weitlingstr. 29\, Berlin\, 10317 Berlin\, Deutschland
END:VEVENT
BEGIN:VEVENT
DTSTART;TZID=UTC:20251013T180000
DTEND;TZID=UTC:20251013T193000
DTSTAMP:20260425T234533
CREATED:20250808T130240Z
LAST-MODIFIED:20250808T130240Z
UID:10000793-1760378400-1760383800@fahrschulesafe.de
SUMMARY:Theorie Thema 3 - Weitlingstr. 29
DESCRIPTION:
URL:https://fahrschulesafe.de/tu/theorie-thema-3-weitlingstr-29-25/
LOCATION:Fahrschule Safe II\, Weitlingstr. 29\, Berlin\, 10317 Berlin\, Deutschland
END:VEVENT
BEGIN:VEVENT
DTSTART;TZID=UTC:20251009T180000
DTEND;TZID=UTC:20251009T193000
DTSTAMP:20260425T234533
CREATED:20250808T130158Z
LAST-MODIFIED:20250808T130158Z
UID:10000792-1760032800-1760038200@fahrschulesafe.de
SUMMARY:Theorie Thema 2 - Weitlingstr. 29
DESCRIPTION:
URL:https://fahrschulesafe.de/tu/theorie-thema-2-weitlingstr-29-25/
LOCATION:Fahrschule Safe II\, Weitlingstr. 29\, Berlin\, 10317 Berlin\, Deutschland
END:VEVENT
BEGIN:VEVENT
DTSTART;TZID=UTC:20251008T180000
DTEND;TZID=UTC:20251008T193000
DTSTAMP:20260425T234533
CREATED:20250808T130133Z
LAST-MODIFIED:20250808T130133Z
UID:10000791-1759946400-1759951800@fahrschulesafe.de
SUMMARY:Theorie Thema 1 - Weitlingstr. 29
DESCRIPTION:
URL:https://fahrschulesafe.de/tu/theorie-thema-1-weitlingstr-29-26/
LOCATION:Fahrschule Safe II\, Weitlingstr. 29\, Berlin\, 10317 Berlin\, Deutschland
END:VEVENT
END:VCALENDAR