BEGIN:VCALENDAR
VERSION:2.0
PRODID:-//Fahrschule Safe GmbH - ECPv6.2.4//NONSGML v1.0//EN
CALSCALE:GREGORIAN
METHOD:PUBLISH
X-ORIGINAL-URL:https://fahrschulesafe.de
X-WR-CALDESC:Veranstaltungen für Fahrschule Safe GmbH
REFRESH-INTERVAL;VALUE=DURATION:PT1H
X-Robots-Tag:noindex
X-PUBLISHED-TTL:PT1H
BEGIN:VTIMEZONE
TZID:UTC
BEGIN:STANDARD
TZOFFSETFROM:+0000
TZOFFSETTO:+0000
TZNAME:UTC
DTSTART:20260101T000000
END:STANDARD
END:VTIMEZONE
BEGIN:VEVENT
DTSTART;TZID=UTC:20260302T180000
DTEND;TZID=UTC:20260302T193000
DTSTAMP:20260423T135156
CREATED:20260119T140414Z
LAST-MODIFIED:20260119T140414Z
UID:10000970-1772474400-1772479800@fahrschulesafe.de
SUMMARY:Theorie Thema 9 – Weitlingstraße 29
DESCRIPTION:
URL:https://fahrschulesafe.de/tu/theorie-thema-9-weitlingstrasse-29-5/
END:VEVENT
BEGIN:VEVENT
DTSTART;TZID=UTC:20260302T180000
DTEND;TZID=UTC:20260302T193000
DTSTAMP:20260423T135156
CREATED:20260123T140335Z
LAST-MODIFIED:20260123T140335Z
UID:10000980-1772474400-1772479800@fahrschulesafe.de
SUMMARY:Theorie Thema 6 – Friedrichstr.11
DESCRIPTION:
URL:https://fahrschulesafe.de/tu/theorie-thema-6-friedrichstr-11-31/
END:VEVENT
BEGIN:VEVENT
DTSTART;TZID=UTC:20260303T180000
DTEND;TZID=UTC:20260303T193000
DTSTAMP:20260423T135156
CREATED:20260119T140448Z
LAST-MODIFIED:20260227T101323Z
UID:10000971-1772560800-1772566200@fahrschulesafe.de
SUMMARY:Theorie Thema 6 – Weitlingstraße 29
DESCRIPTION:
URL:https://fahrschulesafe.de/tu/theorie-thema-10-weitlingstrasse-29-3/
END:VEVENT
BEGIN:VEVENT
DTSTART;TZID=UTC:20260303T180000
DTEND;TZID=UTC:20260303T193000
DTSTAMP:20260423T135156
CREATED:20260123T140353Z
LAST-MODIFIED:20260123T140353Z
UID:10000981-1772560800-1772566200@fahrschulesafe.de
SUMMARY:Theorie Thema 7 – Friedrichstr.11
DESCRIPTION:
URL:https://fahrschulesafe.de/tu/theorie-thema-7-friedrichstr-11-31/
END:VEVENT
BEGIN:VEVENT
DTSTART;TZID=UTC:20260304T180000
DTEND;TZID=UTC:20260304T193000
DTSTAMP:20260423T135156
CREATED:20260119T140513Z
LAST-MODIFIED:20260119T140513Z
UID:10000972-1772647200-1772652600@fahrschulesafe.de
SUMMARY:Theorie Thema 11 – Weitlingstraße 29
DESCRIPTION:
URL:https://fahrschulesafe.de/tu/theorie-thema-11-weitlingstrasse-29-4/
END:VEVENT
BEGIN:VEVENT
DTSTART;TZID=UTC:20260304T180000
DTEND;TZID=UTC:20260304T193000
DTSTAMP:20260423T135156
CREATED:20260123T140415Z
LAST-MODIFIED:20260123T140415Z
UID:10000982-1772647200-1772652600@fahrschulesafe.de
SUMMARY:Theorie Thema 8 – Friedrichstr.11
DESCRIPTION:
URL:https://fahrschulesafe.de/tu/theorie-thema-8-friedrichstr-11-30/
END:VEVENT
BEGIN:VEVENT
DTSTART;TZID=UTC:20260305T180000
DTEND;TZID=UTC:20260305T193000
DTSTAMP:20260423T135156
CREATED:20260119T140536Z
LAST-MODIFIED:20260119T140536Z
UID:10000973-1772733600-1772739000@fahrschulesafe.de
SUMMARY:Theorie Thema 12 – Weitlingstraße 29
DESCRIPTION:
URL:https://fahrschulesafe.de/tu/theorie-thema-12-weitlingstrasse-29-4/
END:VEVENT
BEGIN:VEVENT
DTSTART;TZID=UTC:20260305T180000
DTEND;TZID=UTC:20260305T193000
DTSTAMP:20260423T135156
CREATED:20260123T140435Z
LAST-MODIFIED:20260123T140435Z
UID:10000983-1772733600-1772739000@fahrschulesafe.de
SUMMARY:Theorie Thema 9 – Friedrichstr.11
DESCRIPTION:
URL:https://fahrschulesafe.de/tu/theorie-thema-9-friedrichstr-11-33/
END:VEVENT
BEGIN:VEVENT
DTSTART;TZID=UTC:20260309T180000
DTEND;TZID=UTC:20260309T193000
DTSTAMP:20260423T135156
CREATED:20260119T140605Z
LAST-MODIFIED:20260119T140605Z
UID:10000974-1773079200-1773084600@fahrschulesafe.de
SUMMARY:Theorie Thema 13 – Weitlingstraße 29
DESCRIPTION:
URL:https://fahrschulesafe.de/tu/theorie-thema-13-weitlingstrasse-29-5/
END:VEVENT
BEGIN:VEVENT
DTSTART;TZID=UTC:20260309T180000
DTEND;TZID=UTC:20260309T193000
DTSTAMP:20260423T135156
CREATED:20260123T140457Z
LAST-MODIFIED:20260123T140457Z
UID:10000984-1773079200-1773084600@fahrschulesafe.de
SUMMARY:Theorie Thema 10 – Friedrichstr.11
DESCRIPTION:
URL:https://fahrschulesafe.de/tu/theorie-thema-10-friedrichstr-11-34/
END:VEVENT
BEGIN:VEVENT
DTSTART;TZID=UTC:20260310T180000
DTEND;TZID=UTC:20260310T193000
DTSTAMP:20260423T135156
CREATED:20260119T140630Z
LAST-MODIFIED:20260119T140630Z
UID:10000975-1773165600-1773171000@fahrschulesafe.de
SUMMARY:Theorie Thema 14 – Weitlingstraße 29
DESCRIPTION:
URL:https://fahrschulesafe.de/tu/theorie-thema-14-weitlingstrasse-29-4/
END:VEVENT
BEGIN:VEVENT
DTSTART;TZID=UTC:20260310T180000
DTEND;TZID=UTC:20260310T193000
DTSTAMP:20260423T135156
CREATED:20260123T140516Z
LAST-MODIFIED:20260123T140516Z
UID:10000985-1773165600-1773171000@fahrschulesafe.de
SUMMARY:Theorie Thema 11 – Friedrichstr.11
DESCRIPTION:
URL:https://fahrschulesafe.de/tu/theorie-thema-11-friedrichstr-11-32/
END:VEVENT
BEGIN:VEVENT
DTSTART;TZID=UTC:20260311T180000
DTEND;TZID=UTC:20260311T193000
DTSTAMP:20260423T135156
CREATED:20260119T140707Z
LAST-MODIFIED:20260119T140707Z
UID:10000976-1773252000-1773257400@fahrschulesafe.de
SUMMARY:Theorie Thema 1 – Weitlingstraße 29
DESCRIPTION:
URL:https://fahrschulesafe.de/tu/theorie-thema-1-weitlingstrasse-29-4/
END:VEVENT
BEGIN:VEVENT
DTSTART;TZID=UTC:20260311T180000
DTEND;TZID=UTC:20260311T193000
DTSTAMP:20260423T135156
CREATED:20260123T140536Z
LAST-MODIFIED:20260123T140536Z
UID:10000986-1773252000-1773257400@fahrschulesafe.de
SUMMARY:Theorie Thema 12 – Friedrichstr.11
DESCRIPTION:
URL:https://fahrschulesafe.de/tu/theorie-thema-12-friedrichstr-11-33/
END:VEVENT
BEGIN:VEVENT
DTSTART;TZID=UTC:20260312T180000
DTEND;TZID=UTC:20260312T193000
DTSTAMP:20260423T135156
CREATED:20260123T141252Z
LAST-MODIFIED:20260123T141252Z
UID:10000998-1773338400-1773343800@fahrschulesafe.de
SUMMARY:Theorie Thema 13 – Friedrichstr.11
DESCRIPTION:
URL:https://fahrschulesafe.de/tu/theorie-thema-13-friedrichstr-11-33/
END:VEVENT
BEGIN:VEVENT
DTSTART;TZID=UTC:20260312T180000
DTEND;TZID=UTC:20260312T193000
DTSTAMP:20260423T135156
CREATED:20260312T104905Z
LAST-MODIFIED:20260312T104905Z
UID:10001057-1773338400-1773343800@fahrschulesafe.de
SUMMARY:Theorie Thema 1 – Weitlingstraße 29
DESCRIPTION:
URL:https://fahrschulesafe.de/tu/theorie-thema-1-weitlingstrasse-29-8/
END:VEVENT
BEGIN:VEVENT
DTSTART;TZID=UTC:20260316T180000
DTEND;TZID=UTC:20260316T193000
DTSTAMP:20260423T135156
CREATED:20260119T140927Z
LAST-MODIFIED:20260312T104802Z
UID:10000978-1773684000-1773689400@fahrschulesafe.de
SUMMARY:Theorie Thema 2 – Weitlingstraße 29
DESCRIPTION:
URL:https://fahrschulesafe.de/tu/theorie-thema-3-weitlingstrasse-29-3/
END:VEVENT
BEGIN:VEVENT
DTSTART;TZID=UTC:20260316T180000
DTEND;TZID=UTC:20260316T193000
DTSTAMP:20260423T135156
CREATED:20260123T140627Z
LAST-MODIFIED:20260123T140627Z
UID:10000988-1773684000-1773689400@fahrschulesafe.de
SUMMARY:Theorie Thema 14 – Friedrichstr.11
DESCRIPTION:
URL:https://fahrschulesafe.de/tu/theorie-thema-14-friedrichstr-11-30/
END:VEVENT
BEGIN:VEVENT
DTSTART;TZID=UTC:20260317T180000
DTEND;TZID=UTC:20260317T193000
DTSTAMP:20260423T135156
CREATED:20260119T140956Z
LAST-MODIFIED:20260312T105001Z
UID:10000979-1773770400-1773775800@fahrschulesafe.de
SUMMARY:Theorie Thema 3 – Weitlingstraße 29
DESCRIPTION:
URL:https://fahrschulesafe.de/tu/theorie-thema-4-weitlingstrasse-29-3/
END:VEVENT
BEGIN:VEVENT
DTSTART;TZID=UTC:20260317T180000
DTEND;TZID=UTC:20260317T193000
DTSTAMP:20260423T135156
CREATED:20260123T140658Z
LAST-MODIFIED:20260123T140658Z
UID:10000989-1773770400-1773775800@fahrschulesafe.de
SUMMARY:Theorie Thema 1 – Friedrichstr.11
DESCRIPTION:
URL:https://fahrschulesafe.de/tu/theorie-thema-1-friedrichstr-11-33/
END:VEVENT
BEGIN:VEVENT
DTSTART;TZID=UTC:20260318T180000
DTEND;TZID=UTC:20260318T180000
DTSTAMP:20260423T135156
CREATED:20260310T131258Z
LAST-MODIFIED:20260312T105042Z
UID:10001058-1773856800-1773856800@fahrschulesafe.de
SUMMARY:Theorie Thema 4 – Weitlingstraße 29
DESCRIPTION:
URL:https://fahrschulesafe.de/tu/theorie-thema-5-weitlingstrasse-29-5/
END:VEVENT
BEGIN:VEVENT
DTSTART;TZID=UTC:20260318T180000
DTEND;TZID=UTC:20260318T193000
DTSTAMP:20260423T135156
CREATED:20260123T140721Z
LAST-MODIFIED:20260123T140721Z
UID:10000990-1773856800-1773862200@fahrschulesafe.de
SUMMARY:Theorie Thema 2 – Friedrichstr.11
DESCRIPTION:
URL:https://fahrschulesafe.de/tu/theorie-thema-2-friedrichstr-11-33/
END:VEVENT
BEGIN:VEVENT
DTSTART;TZID=UTC:20260319T180000
DTEND;TZID=UTC:20260319T193000
DTSTAMP:20260423T135156
CREATED:20260123T140738Z
LAST-MODIFIED:20260123T140738Z
UID:10000991-1773943200-1773948600@fahrschulesafe.de
SUMMARY:Theorie Thema 3 – Friedrichstr.11
DESCRIPTION:
URL:https://fahrschulesafe.de/tu/theorie-thema-3-friedrichstr-11-32/
END:VEVENT
BEGIN:VEVENT
DTSTART;TZID=UTC:20260319T180000
DTEND;TZID=UTC:20260319T193000
DTSTAMP:20260423T135157
CREATED:20260310T132646Z
LAST-MODIFIED:20260312T105653Z
UID:10001017-1773943200-1773948600@fahrschulesafe.de
SUMMARY:Theorie Thema 5 – Weitlingstraße 29
DESCRIPTION:
URL:https://fahrschulesafe.de/tu/theorie-thema-6-weitlingstrasse-29-4/
END:VEVENT
BEGIN:VEVENT
DTSTART;TZID=UTC:20260323T180000
DTEND;TZID=UTC:20260323T193000
DTSTAMP:20260423T135157
CREATED:20260123T140805Z
LAST-MODIFIED:20260123T140805Z
UID:10000992-1774288800-1774294200@fahrschulesafe.de
SUMMARY:Theorie Thema 4 – Friedrichstr.11
DESCRIPTION:
URL:https://fahrschulesafe.de/tu/theorie-thema-4-friedrichstr-11-32/
END:VEVENT
BEGIN:VEVENT
DTSTART;TZID=UTC:20260323T180000
DTEND;TZID=UTC:20260323T193000
DTSTAMP:20260423T135157
CREATED:20260310T132905Z
LAST-MODIFIED:20260312T105935Z
UID:10001018-1774288800-1774294200@fahrschulesafe.de
SUMMARY:Theorie Thema 6 – Weitlingstraße 29
DESCRIPTION:
URL:https://fahrschulesafe.de/tu/theorie-thema-7-weitlingstrasse-29-4/
END:VEVENT
BEGIN:VEVENT
DTSTART;TZID=UTC:20260324T180000
DTEND;TZID=UTC:20260324T193000
DTSTAMP:20260423T135157
CREATED:20260123T140831Z
LAST-MODIFIED:20260123T140831Z
UID:10000993-1774375200-1774380600@fahrschulesafe.de
SUMMARY:Theorie Thema 5 – Friedrichstr.11
DESCRIPTION:
URL:https://fahrschulesafe.de/tu/theorie-thema-5-friedrichstr-11-33/
END:VEVENT
BEGIN:VEVENT
DTSTART;TZID=UTC:20260324T180000
DTEND;TZID=UTC:20260324T193000
DTSTAMP:20260423T135157
CREATED:20260310T133234Z
LAST-MODIFIED:20260312T110111Z
UID:10001019-1774375200-1774380600@fahrschulesafe.de
SUMMARY:Theorie Thema 7 – Weitlingstraße 29
DESCRIPTION:
URL:https://fahrschulesafe.de/tu/theorie-thema-8-weitlingstrasse-29-5/
END:VEVENT
BEGIN:VEVENT
DTSTART;TZID=UTC:20260325T180000
DTEND;TZID=UTC:20260325T193000
DTSTAMP:20260423T135157
CREATED:20260123T140852Z
LAST-MODIFIED:20260123T140852Z
UID:10000994-1774461600-1774467000@fahrschulesafe.de
SUMMARY:Theorie Thema 6 – Friedrichstr.11
DESCRIPTION:
URL:https://fahrschulesafe.de/tu/theorie-thema-6-friedrichstr-11-32/
END:VEVENT
BEGIN:VEVENT
DTSTART;TZID=UTC:20260325T180000
DTEND;TZID=UTC:20260325T193000
DTSTAMP:20260423T135157
CREATED:20260310T133331Z
LAST-MODIFIED:20260312T110152Z
UID:10001020-1774461600-1774467000@fahrschulesafe.de
SUMMARY:Theorie Thema 8 – Weitlingstraße 29
DESCRIPTION:
URL:https://fahrschulesafe.de/tu/theorie-thema-9-weitlingstrasse-29-6/
END:VEVENT
END:VCALENDAR