BEGIN:VCALENDAR
VERSION:2.0
PRODID:-//Fahrschule Safe GmbH - ECPv6.2.4//NONSGML v1.0//EN
CALSCALE:GREGORIAN
METHOD:PUBLISH
X-WR-CALNAME:Fahrschule Safe GmbH
X-ORIGINAL-URL:https://fahrschulesafe.de
X-WR-CALDESC:Veranstaltungen für Fahrschule Safe GmbH
REFRESH-INTERVAL;VALUE=DURATION:PT1H
X-Robots-Tag:noindex
X-PUBLISHED-TTL:PT1H
BEGIN:VTIMEZONE
TZID:UTC
BEGIN:STANDARD
TZOFFSETFROM:+0000
TZOFFSETTO:+0000
TZNAME:UTC
DTSTART:20260101T000000
END:STANDARD
END:VTIMEZONE
BEGIN:VEVENT
DTSTART;TZID=UTC:20260105T180000
DTEND;TZID=UTC:20260105T193000
DTSTAMP:20260425T160112
CREATED:20251118T110213Z
LAST-MODIFIED:20251118T110213Z
UID:10000890-1767636000-1767641400@fahrschulesafe.de
SUMMARY:Theorie Thema 2 – Friedrichstr.11
DESCRIPTION:
URL:https://fahrschulesafe.de/tu/theorie-thema-2-friedrichstr-11-30/
END:VEVENT
BEGIN:VEVENT
DTSTART;TZID=UTC:20260105T180000
DTEND;TZID=UTC:20260105T193000
DTSTAMP:20260425T160112
CREATED:20251209T163644Z
LAST-MODIFIED:20251209T163644Z
UID:10000911-1767636000-1767641400@fahrschulesafe.de
SUMMARY:Theorie Thema 5 - Weitlingstr. 29
DESCRIPTION:
URL:https://fahrschulesafe.de/tu/theorie-thema-5-weitlingstr-29-27/
END:VEVENT
BEGIN:VEVENT
DTSTART;TZID=UTC:20260106T180000
DTEND;TZID=UTC:20260106T193000
DTSTAMP:20260425T160112
CREATED:20251118T110230Z
LAST-MODIFIED:20251118T110230Z
UID:10000891-1767722400-1767727800@fahrschulesafe.de
SUMMARY:Theorie Thema 3 – Friedrichstr.11
DESCRIPTION:
URL:https://fahrschulesafe.de/tu/theorie-thema-3-friedrichstr-11-29/
END:VEVENT
BEGIN:VEVENT
DTSTART;TZID=UTC:20260106T180000
DTEND;TZID=UTC:20260106T193000
DTSTAMP:20260425T160112
CREATED:20251210T102020Z
LAST-MODIFIED:20251210T102020Z
UID:10000919-1767722400-1767727800@fahrschulesafe.de
SUMMARY:Theorie Thema 6 – Weitlingstraße 29
DESCRIPTION:
URL:https://fahrschulesafe.de/tu/theorie-thema-6-weitlingstrasse-29/
END:VEVENT
BEGIN:VEVENT
DTSTART;TZID=UTC:20260107T180000
DTEND;TZID=UTC:20260107T193000
DTSTAMP:20260425T160112
CREATED:20251118T110250Z
LAST-MODIFIED:20251118T110250Z
UID:10000892-1767808800-1767814200@fahrschulesafe.de
SUMMARY:Theorie Thema 4 – Friedrichstr.11
DESCRIPTION:
URL:https://fahrschulesafe.de/tu/theorie-thema-4-friedrichstr-11-29/
END:VEVENT
BEGIN:VEVENT
DTSTART;TZID=UTC:20260107T180000
DTEND;TZID=UTC:20260107T193000
DTSTAMP:20260425T160112
CREATED:20251210T102104Z
LAST-MODIFIED:20251210T102104Z
UID:10000920-1767808800-1767814200@fahrschulesafe.de
SUMMARY:Theorie Thema 7 – Weitlingstraße 29
DESCRIPTION:
URL:https://fahrschulesafe.de/tu/theorie-thema-7-weitlingstrasse-29/
END:VEVENT
BEGIN:VEVENT
DTSTART;TZID=UTC:20260108T180000
DTEND;TZID=UTC:20260108T193000
DTSTAMP:20260425T160112
CREATED:20251118T110313Z
LAST-MODIFIED:20251118T110313Z
UID:10000893-1767895200-1767900600@fahrschulesafe.de
SUMMARY:Theorie Thema 5 – Friedrichstr.11
DESCRIPTION:
URL:https://fahrschulesafe.de/tu/theorie-thema-5-friedrichstr-11-30/
END:VEVENT
BEGIN:VEVENT
DTSTART;TZID=UTC:20260108T180000
DTEND;TZID=UTC:20260108T193000
DTSTAMP:20260425T160112
CREATED:20251210T102200Z
LAST-MODIFIED:20251210T102200Z
UID:10000921-1767895200-1767900600@fahrschulesafe.de
SUMMARY:Theorie Thema 8 – Weitlingstraße 29
DESCRIPTION:
URL:https://fahrschulesafe.de/tu/theorie-thema-8-weitlingstrasse-29-2/
END:VEVENT
BEGIN:VEVENT
DTSTART;TZID=UTC:20260112T180000
DTEND;TZID=UTC:20260112T193000
DTSTAMP:20260425T160112
CREATED:20251118T110333Z
LAST-MODIFIED:20251118T110333Z
UID:10000894-1768240800-1768246200@fahrschulesafe.de
SUMMARY:Theorie Thema 6 – Friedrichstr.11
DESCRIPTION:
URL:https://fahrschulesafe.de/tu/theorie-thema-6-friedrichstr-11-29/
END:VEVENT
BEGIN:VEVENT
DTSTART;TZID=UTC:20260112T180000
DTEND;TZID=UTC:20260112T193000
DTSTAMP:20260425T160112
CREATED:20251210T102237Z
LAST-MODIFIED:20251210T102237Z
UID:10000922-1768240800-1768246200@fahrschulesafe.de
SUMMARY:Theorie Thema 9 – Weitlingstraße 29
DESCRIPTION:
URL:https://fahrschulesafe.de/tu/theorie-thema-9-weitlingstrasse-29-3/
END:VEVENT
BEGIN:VEVENT
DTSTART;TZID=UTC:20260113T180000
DTEND;TZID=UTC:20260113T193000
DTSTAMP:20260425T160112
CREATED:20251118T110409Z
LAST-MODIFIED:20251118T110409Z
UID:10000895-1768327200-1768332600@fahrschulesafe.de
SUMMARY:Theorie Thema 7 – Friedrichstr.11
DESCRIPTION:
URL:https://fahrschulesafe.de/tu/theorie-thema-7-friedrichstr-11-29/
END:VEVENT
BEGIN:VEVENT
DTSTART;TZID=UTC:20260113T180000
DTEND;TZID=UTC:20260113T193000
DTSTAMP:20260425T160112
CREATED:20251210T102335Z
LAST-MODIFIED:20251210T102335Z
UID:10000923-1768327200-1768332600@fahrschulesafe.de
SUMMARY:Theorie Thema 10 – Weitlingstraße 29
DESCRIPTION:
URL:https://fahrschulesafe.de/tu/theorie-thema-10-weitlingstrasse-29-2/
END:VEVENT
BEGIN:VEVENT
DTSTART;TZID=UTC:20260114T180000
DTEND;TZID=UTC:20260114T193000
DTSTAMP:20260425T160112
CREATED:20251118T110428Z
LAST-MODIFIED:20251118T110428Z
UID:10000896-1768413600-1768419000@fahrschulesafe.de
SUMMARY:Theorie Thema 8 – Friedrichstr.11
DESCRIPTION:
URL:https://fahrschulesafe.de/tu/theorie-thema-8-friedrichstr-11-28/
END:VEVENT
BEGIN:VEVENT
DTSTART;TZID=UTC:20260114T180000
DTEND;TZID=UTC:20260114T193000
DTSTAMP:20260425T160112
CREATED:20251210T102413Z
LAST-MODIFIED:20251210T102413Z
UID:10000924-1768413600-1768419000@fahrschulesafe.de
SUMMARY:Theorie Thema 11 – Weitlingstraße 29
DESCRIPTION:
URL:https://fahrschulesafe.de/tu/theorie-thema-11-weitlingstrasse-29-2/
END:VEVENT
BEGIN:VEVENT
DTSTART;TZID=UTC:20260115T180000
DTEND;TZID=UTC:20260115T193000
DTSTAMP:20260425T160112
CREATED:20251118T110446Z
LAST-MODIFIED:20251118T110446Z
UID:10000897-1768500000-1768505400@fahrschulesafe.de
SUMMARY:Theorie Thema 9 – Friedrichstr.11
DESCRIPTION:
URL:https://fahrschulesafe.de/tu/theorie-thema-9-friedrichstr-11-31/
END:VEVENT
BEGIN:VEVENT
DTSTART;TZID=UTC:20260115T180000
DTEND;TZID=UTC:20260115T193000
DTSTAMP:20260425T160112
CREATED:20251210T102522Z
LAST-MODIFIED:20251210T102522Z
UID:10000925-1768500000-1768505400@fahrschulesafe.de
SUMMARY:Theorie Thema 12 – Weitlingstraße 29
DESCRIPTION:
URL:https://fahrschulesafe.de/tu/theorie-thema-12-weitlingstrasse-29-2/
END:VEVENT
BEGIN:VEVENT
DTSTART;TZID=UTC:20260119T180000
DTEND;TZID=UTC:20260119T193000
DTSTAMP:20260425T160112
CREATED:20251118T110516Z
LAST-MODIFIED:20251118T110516Z
UID:10000898-1768845600-1768851000@fahrschulesafe.de
SUMMARY:Theorie Thema 10 – Friedrichstr.11
DESCRIPTION:
URL:https://fahrschulesafe.de/tu/theorie-thema-10-friedrichstr-11-32/
END:VEVENT
BEGIN:VEVENT
DTSTART;TZID=UTC:20260119T180000
DTEND;TZID=UTC:20260119T193000
DTSTAMP:20260425T160112
CREATED:20251210T102610Z
LAST-MODIFIED:20251210T102610Z
UID:10000926-1768845600-1768851000@fahrschulesafe.de
SUMMARY:Theorie Thema 13 – Weitlingstraße 29
DESCRIPTION:
URL:https://fahrschulesafe.de/tu/theorie-thema-13-weitlingstrasse-29-2/
END:VEVENT
BEGIN:VEVENT
DTSTART;TZID=UTC:20260119T183000
DTEND;TZID=UTC:20260119T200000
DTSTAMP:20260425T160112
CREATED:20260119T123136Z
LAST-MODIFIED:20260119T123136Z
UID:10000948-1768847400-1768852800@fahrschulesafe.de
SUMMARY:Theorie Thema 13 – Weitlingstraße 29
DESCRIPTION:
URL:https://fahrschulesafe.de/tu/theorie-thema-13-weitlingstrasse-29-3/
END:VEVENT
BEGIN:VEVENT
DTSTART;TZID=UTC:20260120T180000
DTEND;TZID=UTC:20260120T193000
DTSTAMP:20260425T160112
CREATED:20251118T110535Z
LAST-MODIFIED:20251118T110535Z
UID:10000899-1768932000-1768937400@fahrschulesafe.de
SUMMARY:Theorie Thema 11 – Friedrichstr.11
DESCRIPTION:
URL:https://fahrschulesafe.de/tu/theorie-thema-11-friedrichstr-11-30/
END:VEVENT
BEGIN:VEVENT
DTSTART;TZID=UTC:20260120T180000
DTEND;TZID=UTC:20260120T193000
DTSTAMP:20260425T160112
CREATED:20251210T102639Z
LAST-MODIFIED:20251210T102639Z
UID:10000927-1768932000-1768937400@fahrschulesafe.de
SUMMARY:Theorie Thema 14 – Weitlingstraße 29
DESCRIPTION:
URL:https://fahrschulesafe.de/tu/theorie-thema-14-weitlingstrasse-29-2/
END:VEVENT
BEGIN:VEVENT
DTSTART;TZID=UTC:20260121T180000
DTEND;TZID=UTC:20260121T193000
DTSTAMP:20260425T160112
CREATED:20251118T110555Z
LAST-MODIFIED:20251118T110555Z
UID:10000900-1769018400-1769023800@fahrschulesafe.de
SUMMARY:Theorie Thema 12 – Friedrichstr.11
DESCRIPTION:
URL:https://fahrschulesafe.de/tu/theorie-thema-12-friedrichstr-11-31/
END:VEVENT
BEGIN:VEVENT
DTSTART;TZID=UTC:20260121T180000
DTEND;TZID=UTC:20260121T193000
DTSTAMP:20260425T160112
CREATED:20251210T102747Z
LAST-MODIFIED:20251210T102747Z
UID:10000928-1769018400-1769023800@fahrschulesafe.de
SUMMARY:Theorie Thema 1 – Weitlingstraße 29
DESCRIPTION:
URL:https://fahrschulesafe.de/tu/theorie-thema-1-weitlingstrasse-29-2/
END:VEVENT
BEGIN:VEVENT
DTSTART;TZID=UTC:20260122T180000
DTEND;TZID=UTC:20260122T193000
DTSTAMP:20260425T160112
CREATED:20251118T110617Z
LAST-MODIFIED:20251118T110617Z
UID:10000901-1769104800-1769110200@fahrschulesafe.de
SUMMARY:Theorie Thema 13 – Friedrichstr.11
DESCRIPTION:
URL:https://fahrschulesafe.de/tu/theorie-thema-13-friedrichstr-11-31/
END:VEVENT
BEGIN:VEVENT
DTSTART;TZID=UTC:20260122T180000
DTEND;TZID=UTC:20260122T193000
DTSTAMP:20260425T160112
CREATED:20251210T102827Z
LAST-MODIFIED:20251210T102827Z
UID:10000929-1769104800-1769110200@fahrschulesafe.de
SUMMARY:Theorie Thema 2 – Weitlingstraße 29
DESCRIPTION:
URL:https://fahrschulesafe.de/tu/theorie-thema-2-weitlingstrasse-29-2/
END:VEVENT
BEGIN:VEVENT
DTSTART;TZID=UTC:20260126T180000
DTEND;TZID=UTC:20260126T193000
DTSTAMP:20260425T160112
CREATED:20251118T110636Z
LAST-MODIFIED:20251118T110636Z
UID:10000902-1769450400-1769455800@fahrschulesafe.de
SUMMARY:Theorie Thema 14 – Friedrichstr.11
DESCRIPTION:
URL:https://fahrschulesafe.de/tu/theorie-thema-14-friedrichstr-11-28/
END:VEVENT
BEGIN:VEVENT
DTSTART;TZID=UTC:20260126T180000
DTEND;TZID=UTC:20260126T193000
DTSTAMP:20260425T160112
CREATED:20251210T102921Z
LAST-MODIFIED:20251210T102921Z
UID:10000930-1769450400-1769455800@fahrschulesafe.de
SUMMARY:Theorie Thema 3 – Weitlingstraße 29
DESCRIPTION:
URL:https://fahrschulesafe.de/tu/theorie-thema-3-weitlingstrasse-29/
END:VEVENT
BEGIN:VEVENT
DTSTART;TZID=UTC:20260127T180000
DTEND;TZID=UTC:20260127T193000
DTSTAMP:20260425T160112
CREATED:20251118T110708Z
LAST-MODIFIED:20251118T110708Z
UID:10000903-1769536800-1769542200@fahrschulesafe.de
SUMMARY:Theorie Thema 1 – Friedrichstr.11
DESCRIPTION:
URL:https://fahrschulesafe.de/tu/theorie-thema-1-friedrichstr-11-31/
END:VEVENT
BEGIN:VEVENT
DTSTART;TZID=UTC:20260127T180000
DTEND;TZID=UTC:20260127T193000
DTSTAMP:20260425T160112
CREATED:20251210T102950Z
LAST-MODIFIED:20251210T102950Z
UID:10000931-1769536800-1769542200@fahrschulesafe.de
SUMMARY:Theorie Thema 4 – Weitlingstraße 29
DESCRIPTION:
URL:https://fahrschulesafe.de/tu/theorie-thema-4-weitlingstrasse-29/
END:VEVENT
BEGIN:VEVENT
DTSTART;TZID=UTC:20260128T180000
DTEND;TZID=UTC:20260128T193000
DTSTAMP:20260425T160112
CREATED:20251118T110725Z
LAST-MODIFIED:20251118T110725Z
UID:10000904-1769623200-1769628600@fahrschulesafe.de
SUMMARY:Theorie Thema 2 – Friedrichstr.11
DESCRIPTION:
URL:https://fahrschulesafe.de/tu/theorie-thema-2-friedrichstr-11-31/
END:VEVENT
END:VCALENDAR