BEGIN:VCALENDAR
VERSION:2.0
PRODID:-//Fahrschule Safe GmbH - ECPv6.2.4//NONSGML v1.0//EN
CALSCALE:GREGORIAN
METHOD:PUBLISH
X-ORIGINAL-URL:https://fahrschulesafe.de
X-WR-CALDESC:Veranstaltungen für Fahrschule Safe GmbH
REFRESH-INTERVAL;VALUE=DURATION:PT1H
X-Robots-Tag:noindex
X-PUBLISHED-TTL:PT1H
BEGIN:VTIMEZONE
TZID:UTC
BEGIN:STANDARD
TZOFFSETFROM:+0000
TZOFFSETTO:+0000
TZNAME:UTC
DTSTART:20260101T000000
END:STANDARD
END:VTIMEZONE
BEGIN:VEVENT
DTSTART;TZID=UTC:20260416T180000
DTEND;TZID=UTC:20260416T193000
DTSTAMP:20260423T135159
CREATED:20260303T153202Z
LAST-MODIFIED:20260303T153202Z
UID:10001007-1776362400-1776367800@fahrschulesafe.de
SUMMARY:Theorie Thema 4 – Friedrichstr.11
DESCRIPTION:
URL:https://fahrschulesafe.de/tu/theorie-thema-4-friedrichstr-11-33/
END:VEVENT
BEGIN:VEVENT
DTSTART;TZID=UTC:20260416T180000
DTEND;TZID=UTC:20260416T193000
DTSTAMP:20260423T135159
CREATED:20260310T134608Z
LAST-MODIFIED:20260312T112342Z
UID:10001032-1776362400-1776367800@fahrschulesafe.de
SUMMARY:Theorie Thema 6 – Weitlingstraße 29
DESCRIPTION:
URL:https://fahrschulesafe.de/tu/theorie-thema-7-weitlingstrasse-29-5/
END:VEVENT
END:VCALENDAR