BEGIN:VCALENDAR
VERSION:2.0
PRODID:-//Fahrschule Safe GmbH - ECPv6.2.4//NONSGML v1.0//EN
CALSCALE:GREGORIAN
METHOD:PUBLISH
X-ORIGINAL-URL:https://fahrschulesafe.de
X-WR-CALDESC:Veranstaltungen für Fahrschule Safe GmbH
REFRESH-INTERVAL;VALUE=DURATION:PT1H
X-Robots-Tag:noindex
X-PUBLISHED-TTL:PT1H
BEGIN:VTIMEZONE
TZID:UTC
BEGIN:STANDARD
TZOFFSETFROM:+0000
TZOFFSETTO:+0000
TZNAME:UTC
DTSTART:20260101T000000
END:STANDARD
END:VTIMEZONE
BEGIN:VEVENT
DTSTART;TZID=UTC:20260317T180000
DTEND;TZID=UTC:20260317T193000
DTSTAMP:20260423T152211
CREATED:20260119T140956Z
LAST-MODIFIED:20260312T105001Z
UID:10000979-1773770400-1773775800@fahrschulesafe.de
SUMMARY:Theorie Thema 3 – Weitlingstraße 29
DESCRIPTION:
URL:https://fahrschulesafe.de/tu/theorie-thema-4-weitlingstrasse-29-3/
END:VEVENT
BEGIN:VEVENT
DTSTART;TZID=UTC:20260317T180000
DTEND;TZID=UTC:20260317T193000
DTSTAMP:20260423T152211
CREATED:20260123T140658Z
LAST-MODIFIED:20260123T140658Z
UID:10000989-1773770400-1773775800@fahrschulesafe.de
SUMMARY:Theorie Thema 1 – Friedrichstr.11
DESCRIPTION:
URL:https://fahrschulesafe.de/tu/theorie-thema-1-friedrichstr-11-33/
END:VEVENT
END:VCALENDAR