BEGIN:VCALENDAR
VERSION:2.0
PRODID:-//Fahrschule Safe GmbH - ECPv6.2.4//NONSGML v1.0//EN
CALSCALE:GREGORIAN
METHOD:PUBLISH
X-WR-CALNAME:Fahrschule Safe GmbH
X-ORIGINAL-URL:https://fahrschulesafe.de
X-WR-CALDESC:Veranstaltungen für Fahrschule Safe GmbH
REFRESH-INTERVAL;VALUE=DURATION:PT1H
X-Robots-Tag:noindex
X-PUBLISHED-TTL:PT1H
BEGIN:VTIMEZONE
TZID:UTC
BEGIN:STANDARD
TZOFFSETFROM:+0000
TZOFFSETTO:+0000
TZNAME:UTC
DTSTART:20260101T000000
END:STANDARD
END:VTIMEZONE
BEGIN:VEVENT
DTSTART;TZID=UTC:20260310T180000
DTEND;TZID=UTC:20260310T193000
DTSTAMP:20260423T152733
CREATED:20260119T140630Z
LAST-MODIFIED:20260119T140630Z
UID:10000975-1773165600-1773171000@fahrschulesafe.de
SUMMARY:Theorie Thema 14 – Weitlingstraße 29
DESCRIPTION:
URL:https://fahrschulesafe.de/tu/theorie-thema-14-weitlingstrasse-29-4/
END:VEVENT
BEGIN:VEVENT
DTSTART;TZID=UTC:20260310T180000
DTEND;TZID=UTC:20260310T193000
DTSTAMP:20260423T152733
CREATED:20260123T140516Z
LAST-MODIFIED:20260123T140516Z
UID:10000985-1773165600-1773171000@fahrschulesafe.de
SUMMARY:Theorie Thema 11 – Friedrichstr.11
DESCRIPTION:
URL:https://fahrschulesafe.de/tu/theorie-thema-11-friedrichstr-11-32/
END:VEVENT
END:VCALENDAR