BEGIN:VCALENDAR
VERSION:2.0
PRODID:-//Fahrschule Safe GmbH - ECPv6.2.4//NONSGML v1.0//EN
CALSCALE:GREGORIAN
METHOD:PUBLISH
X-WR-CALNAME:Fahrschule Safe GmbH
X-ORIGINAL-URL:https://fahrschulesafe.de
X-WR-CALDESC:Veranstaltungen für Fahrschule Safe GmbH
REFRESH-INTERVAL;VALUE=DURATION:PT1H
X-Robots-Tag:noindex
X-PUBLISHED-TTL:PT1H
BEGIN:VTIMEZONE
TZID:UTC
BEGIN:STANDARD
TZOFFSETFROM:+0000
TZOFFSETTO:+0000
TZNAME:UTC
DTSTART:20260101T000000
END:STANDARD
END:VTIMEZONE
BEGIN:VEVENT
DTSTART;TZID=UTC:20260225T180000
DTEND;TZID=UTC:20260225T193000
DTSTAMP:20260423T182851
CREATED:20251229T150428Z
LAST-MODIFIED:20251229T150428Z
UID:10000945-1772042400-1772047800@fahrschulesafe.de
SUMMARY:Theorie Thema 4 – Friedrichstr.11
DESCRIPTION:
URL:https://fahrschulesafe.de/tu/theorie-thema-4-friedrichstr-11-31/
END:VEVENT
BEGIN:VEVENT
DTSTART;TZID=UTC:20260225T180000
DTEND;TZID=UTC:20260225T193000
DTSTAMP:20260423T182851
CREATED:20260119T134529Z
LAST-MODIFIED:20260119T134529Z
UID:10000968-1772042400-1772047800@fahrschulesafe.de
SUMMARY:Theorie Thema 7 – Weitlingstraße 29
DESCRIPTION:
URL:https://fahrschulesafe.de/tu/theorie-thema-7-weitlingstrasse-29-3/
END:VEVENT
END:VCALENDAR