BEGIN:VCALENDAR
VERSION:2.0
PRODID:-//Fahrschule Safe GmbH - ECPv6.2.4//NONSGML v1.0//EN
CALSCALE:GREGORIAN
METHOD:PUBLISH
X-ORIGINAL-URL:https://fahrschulesafe.de
X-WR-CALDESC:Veranstaltungen für Fahrschule Safe GmbH
REFRESH-INTERVAL;VALUE=DURATION:PT1H
X-Robots-Tag:noindex
X-PUBLISHED-TTL:PT1H
BEGIN:VTIMEZONE
TZID:UTC
BEGIN:STANDARD
TZOFFSETFROM:+0000
TZOFFSETTO:+0000
TZNAME:UTC
DTSTART:20260101T000000
END:STANDARD
END:VTIMEZONE
BEGIN:VEVENT
DTSTART;TZID=UTC:20260219T180000
DTEND;TZID=UTC:20260219T193000
DTSTAMP:20260423T183442
CREATED:20251229T150524Z
LAST-MODIFIED:20251229T150524Z
UID:10000947-1771524000-1771529400@fahrschulesafe.de
SUMMARY:Theorie Thema 1 – Friedrichstr.11
DESCRIPTION:
URL:https://fahrschulesafe.de/tu/theorie-thema-1-friedrichstr-11-32/
END:VEVENT
BEGIN:VEVENT
DTSTART;TZID=UTC:20260219T180000
DTEND;TZID=UTC:20260219T193000
DTSTAMP:20260423T183442
CREATED:20260119T134318Z
LAST-MODIFIED:20260119T134318Z
UID:10000965-1771524000-1771529400@fahrschulesafe.de
SUMMARY:Theorie Thema 4 – Weitlingstraße 29
DESCRIPTION:
URL:https://fahrschulesafe.de/tu/theorie-thema-4-weitlingstrasse-29-2/
END:VEVENT
END:VCALENDAR