BEGIN:VCALENDAR
VERSION:2.0
PRODID:-//Fahrschule Safe GmbH - ECPv6.2.4//NONSGML v1.0//EN
CALSCALE:GREGORIAN
METHOD:PUBLISH
X-ORIGINAL-URL:https://fahrschulesafe.de
X-WR-CALDESC:Veranstaltungen für Fahrschule Safe GmbH
REFRESH-INTERVAL;VALUE=DURATION:PT1H
X-Robots-Tag:noindex
X-PUBLISHED-TTL:PT1H
BEGIN:VTIMEZONE
TZID:UTC
BEGIN:STANDARD
TZOFFSETFROM:+0000
TZOFFSETTO:+0000
TZNAME:UTC
DTSTART:20250101T000000
END:STANDARD
END:VTIMEZONE
BEGIN:VEVENT
DTSTART;TZID=UTC:20251210T180000
DTEND;TZID=UTC:20251210T193000
DTSTAMP:20260425T174813
CREATED:20251030T121259Z
LAST-MODIFIED:20251030T121259Z
UID:10000879-1765389600-1765395000@fahrschulesafe.de
SUMMARY:Theorie Thema 6 – Friedrichstr.11
DESCRIPTION:
URL:https://fahrschulesafe.de/tu/theorie-thema-6-friedrichstr-11-28/
END:VEVENT
BEGIN:VEVENT
DTSTART;TZID=UTC:20251210T180000
DTEND;TZID=UTC:20251210T193000
DTSTAMP:20260425T174813
CREATED:20251209T163847Z
LAST-MODIFIED:20251209T163847Z
UID:10000912-1765389600-1765395000@fahrschulesafe.de
SUMMARY:Theorie Thema 9 – Weitlingstraße 29
DESCRIPTION:
URL:https://fahrschulesafe.de/tu/theorie-thema-9-weitlingstrasse-29-2/
END:VEVENT
END:VCALENDAR