BEGIN:VCALENDAR
VERSION:2.0
PRODID:-//Fahrschule Safe GmbH - ECPv6.2.4//NONSGML v1.0//EN
CALSCALE:GREGORIAN
METHOD:PUBLISH
X-WR-CALNAME:Fahrschule Safe GmbH
X-ORIGINAL-URL:https://fahrschulesafe.de
X-WR-CALDESC:Veranstaltungen für Fahrschule Safe GmbH
REFRESH-INTERVAL;VALUE=DURATION:PT1H
X-Robots-Tag:noindex
X-PUBLISHED-TTL:PT1H
BEGIN:VTIMEZONE
TZID:UTC
BEGIN:STANDARD
TZOFFSETFROM:+0000
TZOFFSETTO:+0000
TZNAME:UTC
DTSTART:20250101T000000
END:STANDARD
END:VTIMEZONE
BEGIN:VEVENT
DTSTART;TZID=UTC:20251202T180000
DTEND;TZID=UTC:20251202T193000
DTSTAMP:20260425T203513
CREATED:20251030T121006Z
LAST-MODIFIED:20251030T121006Z
UID:10000874-1764698400-1764703800@fahrschulesafe.de
SUMMARY:Theorie Thema 1 – Friedrichstr.11
DESCRIPTION:
URL:https://fahrschulesafe.de/tu/theorie-thema-1-friedrichstr-11-29/
END:VEVENT
END:VCALENDAR