BEGIN:VCALENDAR
VERSION:2.0
PRODID:-//Fahrschule Safe GmbH - ECPv6.2.4//NONSGML v1.0//EN
CALSCALE:GREGORIAN
METHOD:PUBLISH
X-WR-CALNAME:Fahrschule Safe GmbH
X-ORIGINAL-URL:https://fahrschulesafe.de/en
X-WR-CALDESC:Events for Fahrschule Safe GmbH
REFRESH-INTERVAL;VALUE=DURATION:PT1H
X-Robots-Tag:noindex
X-PUBLISHED-TTL:PT1H
BEGIN:VTIMEZONE
TZID:UTC
BEGIN:STANDARD
TZOFFSETFROM:+0000
TZOFFSETTO:+0000
TZNAME:UTC
DTSTART:20260101T000000
END:STANDARD
END:VTIMEZONE
BEGIN:VEVENT
DTSTART;TZID=UTC:20260423T180000
DTEND;TZID=UTC:20260423T193000
DTSTAMP:20260423T103908
CREATED:20260303T153400Z
LAST-MODIFIED:20260303T153400Z
UID:10001011-1776967200-1776972600@fahrschulesafe.de
SUMMARY:Theorie Thema 8 – Friedrichstr.11
DESCRIPTION:
URL:https://fahrschulesafe.de/en/tu/theorie-thema-8-friedrichstr-11-32/
END:VEVENT
BEGIN:VEVENT
DTSTART;TZID=UTC:20260423T180000
DTEND;TZID=UTC:20260423T193000
DTSTAMP:20260423T103908
CREATED:20260310T135001Z
LAST-MODIFIED:20260312T112546Z
UID:10001036-1776967200-1776972600@fahrschulesafe.de
SUMMARY:Theorie Thema 10 – Weitlingstraße 29
DESCRIPTION:
URL:https://fahrschulesafe.de/en/tu/theorie-thema-11-weitlingstrasse-29-6/
END:VEVENT
BEGIN:VEVENT
DTSTART;TZID=UTC:20260427T180000
DTEND;TZID=UTC:20260427T193000
DTSTAMP:20260423T103908
CREATED:20260303T153417Z
LAST-MODIFIED:20260303T153417Z
UID:10001012-1777312800-1777318200@fahrschulesafe.de
SUMMARY:Theorie Thema 9 – Friedrichstr.11
DESCRIPTION:
URL:https://fahrschulesafe.de/en/tu/theorie-thema-9-friedrichstr-11-35/
END:VEVENT
BEGIN:VEVENT
DTSTART;TZID=UTC:20260427T180000
DTEND;TZID=UTC:20260427T193000
DTSTAMP:20260423T103908
CREATED:20260310T135143Z
LAST-MODIFIED:20260312T112613Z
UID:10001037-1777312800-1777318200@fahrschulesafe.de
SUMMARY:Theorie Thema 11 – Weitlingstraße 29
DESCRIPTION:
URL:https://fahrschulesafe.de/en/tu/theorie-thema-12-weitlingstrasse-29-6/
END:VEVENT
BEGIN:VEVENT
DTSTART;TZID=UTC:20260428T180000
DTEND;TZID=UTC:20260428T193000
DTSTAMP:20260423T103908
CREATED:20260303T153719Z
LAST-MODIFIED:20260303T153719Z
UID:10001013-1777399200-1777404600@fahrschulesafe.de
SUMMARY:Theorie Thema 10 – Friedrichstr.11
DESCRIPTION:
URL:https://fahrschulesafe.de/en/tu/theorie-thema-10-friedrichstr-11-36/
END:VEVENT
BEGIN:VEVENT
DTSTART;TZID=UTC:20260428T180000
DTEND;TZID=UTC:20260428T193000
DTSTAMP:20260423T103908
CREATED:20260310T135225Z
LAST-MODIFIED:20260312T112637Z
UID:10001038-1777399200-1777404600@fahrschulesafe.de
SUMMARY:Theorie Thema 12 – Weitlingstraße 29
DESCRIPTION:
URL:https://fahrschulesafe.de/en/tu/theorie-thema-13-weitlingstrasse-29-7/
END:VEVENT
BEGIN:VEVENT
DTSTART;TZID=UTC:20260429T180000
DTEND;TZID=UTC:20260429T193000
DTSTAMP:20260423T103908
CREATED:20260303T153810Z
LAST-MODIFIED:20260303T153810Z
UID:10001014-1777485600-1777491000@fahrschulesafe.de
SUMMARY:Theorie Thema 11 – Friedrichstr.11
DESCRIPTION:
URL:https://fahrschulesafe.de/en/tu/theorie-thema-11-friedrichstr-11-34/
END:VEVENT
BEGIN:VEVENT
DTSTART;TZID=UTC:20260429T180000
DTEND;TZID=UTC:20260429T193000
DTSTAMP:20260423T103908
CREATED:20260310T135354Z
LAST-MODIFIED:20260312T112656Z
UID:10001039-1777485600-1777491000@fahrschulesafe.de
SUMMARY:Theorie Thema 13 – Weitlingstraße 29
DESCRIPTION:
URL:https://fahrschulesafe.de/en/tu/theorie-thema-14-weitlingstrasse-29-6/
END:VEVENT
BEGIN:VEVENT
DTSTART;TZID=UTC:20260430T180000
DTEND;TZID=UTC:20260430T193000
DTSTAMP:20260423T103908
CREATED:20260303T153846Z
LAST-MODIFIED:20260303T153846Z
UID:10001015-1777572000-1777577400@fahrschulesafe.de
SUMMARY:Theorie Thema 12 – Friedrichstr.11
DESCRIPTION:
URL:https://fahrschulesafe.de/en/tu/theorie-thema-12-friedrichstr-11-35/
END:VEVENT
BEGIN:VEVENT
DTSTART;TZID=UTC:20260430T180000
DTEND;TZID=UTC:20260430T193000
DTSTAMP:20260423T103908
CREATED:20260310T135520Z
LAST-MODIFIED:20260312T112712Z
UID:10001040-1777572000-1777577400@fahrschulesafe.de
SUMMARY:Theorie Thema 14 – Weitlingstraße 29
DESCRIPTION:
URL:https://fahrschulesafe.de/en/tu/theorie-thema-1-weitlingstrasse-29-6/
END:VEVENT
END:VCALENDAR