BEGIN:VCALENDAR
VERSION:2.0
PRODID:-//Fahrschule Safe GmbH - ECPv6.2.4//NONSGML v1.0//EN
CALSCALE:GREGORIAN
METHOD:PUBLISH
X-WR-CALNAME:Fahrschule Safe GmbH
X-ORIGINAL-URL:https://fahrschulesafe.de/en
X-WR-CALDESC:Events for Fahrschule Safe GmbH
REFRESH-INTERVAL;VALUE=DURATION:PT1H
X-Robots-Tag:noindex
X-PUBLISHED-TTL:PT1H
BEGIN:VTIMEZONE
TZID:UTC
BEGIN:STANDARD
TZOFFSETFROM:+0000
TZOFFSETTO:+0000
TZNAME:UTC
DTSTART:20260101T000000
END:STANDARD
END:VTIMEZONE
BEGIN:VEVENT
DTSTART;TZID=UTC:20260526T180000
DTEND;TZID=UTC:20260526T193000
DTSTAMP:20260426T011835
CREATED:20260310T141147Z
LAST-MODIFIED:20260316T142019Z
UID:10001054-1779818400-1779823800@fahrschulesafe.de
SUMMARY:Theorie Thema 12 – Weitlingstraße 29
DESCRIPTION:
URL:https://fahrschulesafe.de/en/tu/theorie-thema-1-weitlingstrasse-29-7/
END:VEVENT
BEGIN:VEVENT
DTSTART;TZID=UTC:20260526T180000
DTEND;TZID=UTC:20260526T193000
DTSTAMP:20260426T011835
CREATED:20260312T123425Z
LAST-MODIFIED:20260326T142411Z
UID:10001072-1779818400-1779823800@fahrschulesafe.de
SUMMARY:Theorie Thema 10 – Friedrichstr.11
DESCRIPTION:
URL:https://fahrschulesafe.de/en/tu/theorie-thema-12-friedrichstr-11-36/
END:VEVENT
END:VCALENDAR