BEGIN:VCALENDAR
VERSION:2.0
PRODID:-//Fahrschule Safe GmbH - ECPv6.2.4//NONSGML v1.0//EN
CALSCALE:GREGORIAN
METHOD:PUBLISH
X-WR-CALNAME:Fahrschule Safe GmbH
X-ORIGINAL-URL:https://fahrschulesafe.de/en
X-WR-CALDESC:Events for Fahrschule Safe GmbH
REFRESH-INTERVAL;VALUE=DURATION:PT1H
X-Robots-Tag:noindex
X-PUBLISHED-TTL:PT1H
BEGIN:VTIMEZONE
TZID:UTC
BEGIN:STANDARD
TZOFFSETFROM:+0000
TZOFFSETTO:+0000
TZNAME:UTC
DTSTART:20260101T000000
END:STANDARD
END:VTIMEZONE
BEGIN:VEVENT
DTSTART;TZID=UTC:20260520T180000
DTEND;TZID=UTC:20260520T193000
DTSTAMP:20260426T030409
CREATED:20260310T140831Z
LAST-MODIFIED:20260316T140329Z
UID:10001051-1779300000-1779305400@fahrschulesafe.de
SUMMARY:Theorie Thema 10 – Weitlingstraße 29
DESCRIPTION:
URL:https://fahrschulesafe.de/en/tu/theorie-thema-12-weitlingstrasse-29-7/
END:VEVENT
BEGIN:VEVENT
DTSTART;TZID=UTC:20260520T180000
DTEND;TZID=UTC:20260520T193000
DTSTAMP:20260426T030409
CREATED:20260312T123059Z
LAST-MODIFIED:20260326T142257Z
UID:10001069-1779300000-1779305400@fahrschulesafe.de
SUMMARY:Theorie Thema 8 – Friedrichstr.11
DESCRIPTION:
URL:https://fahrschulesafe.de/en/tu/theorie-thema-9-friedrichstr-11-36/
END:VEVENT
END:VCALENDAR