BEGIN:VCALENDAR
VERSION:2.0
PRODID:-//Fahrschule Safe GmbH - ECPv6.2.4//NONSGML v1.0//EN
CALSCALE:GREGORIAN
METHOD:PUBLISH
X-ORIGINAL-URL:https://fahrschulesafe.de/en
X-WR-CALDESC:Events for Fahrschule Safe GmbH
REFRESH-INTERVAL;VALUE=DURATION:PT1H
X-Robots-Tag:noindex
X-PUBLISHED-TTL:PT1H
BEGIN:VTIMEZONE
TZID:UTC
BEGIN:STANDARD
TZOFFSETFROM:+0000
TZOFFSETTO:+0000
TZNAME:UTC
DTSTART:20260101T000000
END:STANDARD
END:VTIMEZONE
BEGIN:VEVENT
DTSTART;TZID=UTC:20260511T180000
DTEND;TZID=UTC:20260511T193000
DTSTAMP:20260426T012048
CREATED:20260310T140145Z
LAST-MODIFIED:20260312T113045Z
UID:10001045-1778522400-1778527800@fahrschulesafe.de
SUMMARY:Theorie Thema 5 – Weitlingstraße 29
DESCRIPTION:
URL:https://fahrschulesafe.de/en/tu/theorie-thema-6-weitlingstrasse-29-6/
END:VEVENT
BEGIN:VEVENT
DTSTART;TZID=UTC:20260511T180000
DTEND;TZID=UTC:20260511T193000
DTSTAMP:20260426T012048
CREATED:20260312T122501Z
LAST-MODIFIED:20260312T122501Z
UID:10001063-1778522400-1778527800@fahrschulesafe.de
SUMMARY:Theorie Thema 3 – Friedrichstr.11
DESCRIPTION:
URL:https://fahrschulesafe.de/en/tu/theorie-thema-3-friedrichstr-11-34/
END:VEVENT
END:VCALENDAR