BEGIN:VCALENDAR
VERSION:2.0
PRODID:-//Fahrschule Safe GmbH - ECPv6.2.4//NONSGML v1.0//EN
CALSCALE:GREGORIAN
METHOD:PUBLISH
X-ORIGINAL-URL:https://fahrschulesafe.de/en
X-WR-CALDESC:Events for Fahrschule Safe GmbH
REFRESH-INTERVAL;VALUE=DURATION:PT1H
X-Robots-Tag:noindex
X-PUBLISHED-TTL:PT1H
BEGIN:VTIMEZONE
TZID:UTC
BEGIN:STANDARD
TZOFFSETFROM:+0000
TZOFFSETTO:+0000
TZNAME:UTC
DTSTART:20260101T000000
END:STANDARD
END:VTIMEZONE
BEGIN:VEVENT
DTSTART;TZID=UTC:20260325T180000
DTEND;TZID=UTC:20260325T193000
DTSTAMP:20260423T165250
CREATED:20260123T140852Z
LAST-MODIFIED:20260123T140852Z
UID:10000994-1774461600-1774467000@fahrschulesafe.de
SUMMARY:Theorie Thema 6 – Friedrichstr.11
DESCRIPTION:
URL:https://fahrschulesafe.de/en/tu/theorie-thema-6-friedrichstr-11-32/
END:VEVENT
BEGIN:VEVENT
DTSTART;TZID=UTC:20260325T180000
DTEND;TZID=UTC:20260325T193000
DTSTAMP:20260423T165250
CREATED:20260310T133331Z
LAST-MODIFIED:20260312T110152Z
UID:10001020-1774461600-1774467000@fahrschulesafe.de
SUMMARY:Theorie Thema 8 – Weitlingstraße 29
DESCRIPTION:
URL:https://fahrschulesafe.de/en/tu/theorie-thema-9-weitlingstrasse-29-6/
END:VEVENT
END:VCALENDAR